BEGIN:VCALENDAR
VERSION:2.0
PRODID:-//wp-events-plugin.com//7.2.3.1//EN
BEGIN:VEVENT
UID:1759@wwsme.org
DTSTART:20260606T100000Z
DTEND:20260606T160000Z
DTSTAMP:20260311T082403Z
URL:https://wwsme.org/events/white-horse-miniature-railway-open/
SUMMARY:White Horse Miniature Railway Open
DESCRIPTION:Miniature Steam Road Vehicles Day\n\nOn show today will be a di
 splay of Traction Engines and Lorries.&nbsp\;
CATEGORIES:Public Event
END:VEVENT
END:VCALENDAR