BEGIN:VCALENDAR
VERSION:2.0
PRODID:-//wp-events-plugin.com//7.2.3.1//EN
BEGIN:VEVENT
UID:1762@wwsme.org
DTSTART:20260905T100000Z
DTEND:20260905T160000Z
DTSTAMP:20260311T083532Z
URL:https://wwsme.org/events/white-horse-miniature-railway-open-4/
SUMMARY:White Horse Miniature Railway Open
DESCRIPTION:
CATEGORIES:Public Event
END:VEVENT
END:VCALENDAR