BEGIN:VCALENDAR
VERSION:2.0
PRODID:-//wp-events-plugin.com//7.2.3.1//EN
BEGIN:VEVENT
UID:1761@wwsme.org
DTSTART:20260801T100000Z
DTEND:20260801T160000Z
DTSTAMP:20260311T083238Z
URL:https://wwsme.org/events/white-horse-miniature-railway-open-3/
SUMMARY:White Horse Miniature Railway Open
DESCRIPTION:
CATEGORIES:Public Event
END:VEVENT
END:VCALENDAR