BEGIN:VCALENDAR
VERSION:2.0
PRODID:-//wp-events-plugin.com//7.2.3.1//EN
BEGIN:VEVENT
UID:1760@wwsme.org
DTSTART:20260704T100000Z
DTEND:20260704T160000Z
DTSTAMP:20260311T082906Z
URL:https://wwsme.org/events/white-horse-miniature-railway-open-2/
SUMMARY:White Horse Miniature Railway Open
DESCRIPTION:Featuring - Building Block Day\n\nBring along your amazing crea
 tions made from those famous plastic bricks.
CATEGORIES:Public Event
END:VEVENT
END:VCALENDAR