BEGIN:VCALENDAR
VERSION:2.0
PRODID:-//wp-events-plugin.com//7.2.3.1//EN
BEGIN:VEVENT
UID:1758@wwsme.org
DTSTART:20260502T100000Z
DTEND:20260502T160000Z
DTSTAMP:20260311T083014Z
URL:https://wwsme.org/events/white-horse-miniature-railway-2/
SUMMARY:White Horse Miniature Railway Open
DESCRIPTION:Mamod &amp\; Table Top Steam Model Day\n\nBring along you Mamod
 \, Welco's or any table top model. If you have found one hidden away in th
 e loft and wonder if it still works\, then bring it along and have one of 
 our experts have a look for you.
CATEGORIES:Public Event
END:VEVENT
END:VCALENDAR