BEGIN:VCALENDAR
VERSION:2.0
PRODID:-//wp-events-plugin.com//7.2.3.1//EN
BEGIN:VEVENT
UID:1749@wwsme.org
DTSTART;VALUE=DATE:20250607
DTEND;VALUE=DATE:20250608
DTSTAMP:20250322T153744Z
URL:https://wwsme.org/events/hilperton-fete/
SUMMARY:Hilperton Fete
DESCRIPTION:The Club will be running its portable track for public riding a
 t this event.
CATEGORIES:Portable Track
END:VEVENT
END:VCALENDAR